BEGIN:VCALENDAR
VERSION:2.0
PRODID:-//DBIA South Central Region - ECPv6.15.20//NONSGML v1.0//EN
CALSCALE:GREGORIAN
METHOD:PUBLISH
X-WR-CALNAME:DBIA South Central Region
X-ORIGINAL-URL:https://dbiasc.org
X-WR-CALDESC:Events for DBIA South Central Region
REFRESH-INTERVAL;VALUE=DURATION:PT1H
X-Robots-Tag:noindex
X-PUBLISHED-TTL:PT1H
BEGIN:VTIMEZONE
TZID:America/Chicago
BEGIN:DAYLIGHT
TZOFFSETFROM:-0600
TZOFFSETTO:-0500
TZNAME:CDT
DTSTART:20180311T080000
END:DAYLIGHT
BEGIN:STANDARD
TZOFFSETFROM:-0500
TZOFFSETTO:-0600
TZNAME:CST
DTSTART:20181104T070000
END:STANDARD
BEGIN:DAYLIGHT
TZOFFSETFROM:-0600
TZOFFSETTO:-0500
TZNAME:CDT
DTSTART:20190310T080000
END:DAYLIGHT
BEGIN:STANDARD
TZOFFSETFROM:-0500
TZOFFSETTO:-0600
TZNAME:CST
DTSTART:20191103T070000
END:STANDARD
BEGIN:DAYLIGHT
TZOFFSETFROM:-0600
TZOFFSETTO:-0500
TZNAME:CDT
DTSTART:20200308T080000
END:DAYLIGHT
BEGIN:STANDARD
TZOFFSETFROM:-0500
TZOFFSETTO:-0600
TZNAME:CST
DTSTART:20201101T070000
END:STANDARD
END:VTIMEZONE
BEGIN:VEVENT
DTSTART;VALUE=DATE:20191106
DTEND;VALUE=DATE:20191109
DTSTAMP:20260422T031226
CREATED:20190517T170504Z
LAST-MODIFIED:20190517T170504Z
UID:644-1572998400-1573257599@dbiasc.org
SUMMARY:Design-Build Conference & Expo 2019
DESCRIPTION:Join DBIA in Las Vegas for the design-build event of the year!\nDBIA conferences are the only events created by and for the rapidly growing design-build industry. Design-build is the future and the Design-Build Conference & Expo is the perfect place for newbies and pros alike to get the latest on important design-build trends and topics. \nLearn More
URL:https://dbiasc.org/event/design-build-conference-expo-2019/
CATEGORIES:Conference,National Event
END:VEVENT
BEGIN:VEVENT
DTSTART;VALUE=DATE:20190807
DTEND;VALUE=DATE:20190808
DTSTAMP:20260422T031226
CREATED:20190517T170122Z
LAST-MODIFIED:20190517T170556Z
UID:640-1565136000-1565222399@dbiasc.org
SUMMARY:Federal Design-Build Symposium 2019
DESCRIPTION:Back by popular demand\, the Design-Build Institute of America will gather the nation’s leading federal sector design-builders in a one-of-a-kind opportunity for industry and Owners. The 2019 Design-Build Federal Symposium brings together key players from Federal agencies and the design and construction industry for sessions focused on optimizing project delivery outcomes for federal projects. \nLearn More
URL:https://dbiasc.org/event/federal-design-build-symposium-2019/
LOCATION:Crystal Gateway Marriott\, Arlington\, VA\, United States
CATEGORIES:Conference,National Event
END:VEVENT
BEGIN:VEVENT
DTSTART;TZID=America/Chicago:20190805T080000
DTEND;TZID=America/Chicago:20190807T170000
DTSTAMP:20260422T031226
CREATED:20190517T163950Z
LAST-MODIFIED:20190517T165819Z
UID:627-1564992000-1565197200@dbiasc.org
SUMMARY:Certification Workshop
DESCRIPTION:A three-day intensive program including the three DBIA core courses required for certification plus access to the exam prep course. We advise attendees to take the webinar before the workshop. \nWorkshop Schedule\nCode of Conduct Webinar (Pre-Workshop)\nDay 1: Principles of Design-Build Delivery & Procurement\nDay 2: Post Award: Executing the Delivery of Design-Build Projects\nDay 3: Contracts & Risk Management \n8:00am–5:00pm (includes breakfast and lunch each day) \nRegister
URL:https://dbiasc.org/event/certification-workshop-august-2019/
LOCATION:Vanderbilt University\, Room 138\, Nashville\, TN\, 37235\, United States
CATEGORIES:Certification Workshops,Education,National Event
ORGANIZER;CN="DBIA National Education":MAILTO:education@dbia.org
END:VEVENT
END:VCALENDAR