BEGIN:VCALENDAR
VERSION:2.0
PRODID:-//DBIA South Central Region - ECPv6.15.20//NONSGML v1.0//EN
CALSCALE:GREGORIAN
METHOD:PUBLISH
X-WR-CALNAME:DBIA South Central Region
X-ORIGINAL-URL:https://dbiasc.org
X-WR-CALDESC:Events for DBIA South Central Region
REFRESH-INTERVAL;VALUE=DURATION:PT1H
X-Robots-Tag:noindex
X-PUBLISHED-TTL:PT1H
BEGIN:VTIMEZONE
TZID:America/Chicago
BEGIN:DAYLIGHT
TZOFFSETFROM:-0600
TZOFFSETTO:-0500
TZNAME:CDT
DTSTART:20180311T080000
END:DAYLIGHT
BEGIN:STANDARD
TZOFFSETFROM:-0500
TZOFFSETTO:-0600
TZNAME:CST
DTSTART:20181104T070000
END:STANDARD
BEGIN:DAYLIGHT
TZOFFSETFROM:-0600
TZOFFSETTO:-0500
TZNAME:CDT
DTSTART:20190310T080000
END:DAYLIGHT
BEGIN:STANDARD
TZOFFSETFROM:-0500
TZOFFSETTO:-0600
TZNAME:CST
DTSTART:20191103T070000
END:STANDARD
BEGIN:DAYLIGHT
TZOFFSETFROM:-0600
TZOFFSETTO:-0500
TZNAME:CDT
DTSTART:20200308T080000
END:DAYLIGHT
BEGIN:STANDARD
TZOFFSETFROM:-0500
TZOFFSETTO:-0600
TZNAME:CST
DTSTART:20201101T070000
END:STANDARD
END:VTIMEZONE
BEGIN:VEVENT
DTSTART;TZID=America/Chicago:20191114T173000
DTEND;TZID=America/Chicago:20191114T193000
DTSTAMP:20260422T002412
CREATED:20191106T193810Z
LAST-MODIFIED:20191106T194211Z
UID:778-1573752600-1573759800@dbiasc.org
SUMMARY:DBIA SC Fall Cockatil Event
DESCRIPTION:Join us at the next DBIA event! Special thanks to Darek Bell and Corsair Distillery for hosting our 2019 Fall Social. Sit\, sip and enjoy Craft cocktails and beer with DBIA SC\, Corsair and the rest of our industry co-workers. Attendees must be 21+.
URL:https://dbiasc.org/event/dbia-sc-fall-cockatil-event/
LOCATION:Corsair Distillery\, 1200 Clinton St #100\, Nashville\, TN\, 37203\, United States
CATEGORIES:Networking,Region Event
END:VEVENT
BEGIN:VEVENT
DTSTART;TZID=America/Chicago:20190828T170000
DTEND;TZID=America/Chicago:20190828T190000
DTSTAMP:20260422T002412
CREATED:20190811T184508Z
LAST-MODIFIED:20190811T184508Z
UID:733-1567011600-1567018800@dbiasc.org
SUMMARY:DBIA SC Summer Social
DESCRIPTION:We’re coming back! Special thanks to Darek Bell and Corsair Distillery for hosting our 2019 Summer Social. \nSit\, sip and enjoy Craft cocktails and beer with DBIA SC\, Corsair and the rest of our industry co-workers. \nAttendees must be 21+. \n  \nRegister Here: \nhttp://events.constantcontact.com/register/event?llr=ogza776ab&oeidk=a07egiyed7300cd931b
URL:https://dbiasc.org/event/dbia-sc-summer-social/
LOCATION:Corsair Distillery\, 1200 Clinton St #100\, Nashville\, TN\, 37203\, United States
CATEGORIES:Networking,Region Event
END:VEVENT
BEGIN:VEVENT
DTSTART;TZID=America/Chicago:20190815T110000
DTEND;TZID=America/Chicago:20190815T130000
DTSTAMP:20260422T002412
CREATED:20190628T141218Z
LAST-MODIFIED:20190805T183716Z
UID:710-1565866800-1565874000@dbiasc.org
SUMMARY:Precon Lunch and Learn
DESCRIPTION:Please join DBIA SC in welcoming Derek Brown\, Cost Planning Director for LendLease\, for his course on Construction Cost Planning. \nEarn CEU\, PDH and/or AIA credits! \nWhat is a construction cost plan? In the construction industry\, a cost plan is a tool used to control and manage estimated construction costs\, beginning with early programming/conceptual designs and onward through the construction phase of a project. That means that cost plans are living documents\, similar to a project management plan. They must be managed throughout the lifecycle of a construction project. The science (and art) of where cost estimating develops into cost planning relies on sound construction knowledge and a thorough understanding of cost estimating principles. It also requires the proper cost modelling tools and a healthy dose of experience. \nDON’T WAIT! Early registration ends 7/19/19. \nClick on the link below to register. \n  \nRegister
URL:https://dbiasc.org/event/precon-lunch-and-learn/
LOCATION:IC Thomasson Associates\, Inc.\, 2950 Kraft Dr #500\, Nashville\, TN\, 37204\, United States
CATEGORIES:Education,Region Event
END:VEVENT
BEGIN:VEVENT
DTSTART;TZID=America/Chicago:20190707T110000
DTEND;TZID=America/Chicago:20190707T120000
DTSTAMP:20260422T002412
CREATED:20190517T163415Z
LAST-MODIFIED:20190621T175105Z
UID:622-1562497200-1562500800@dbiasc.org
SUMMARY:R&D Tax Credits for Design-Build Methods Part 3/4
DESCRIPTION:*This event’s original date was June 6th – It is here for demonstration purposes\nAbout this Course: \nPart 3 of 4 covering: An overview of current rules and legislation governing the R&D tax credit. A clear understanding of how this tax credit applies to the Design-Build industry. Financial risk required in R&D activities. Important details on recent law changes.  \nCEU/AIA: 1 Credit \nRegistration is Closed \n 
URL:https://dbiasc.org/event/rd-tax-credits-for-design-build-methods-part-3-4/
LOCATION:Online
CATEGORIES:Education,Region Event,Webinars
ORGANIZER;CN="Matt Crowley":MAILTO:contact@dbiasc.org
END:VEVENT
END:VCALENDAR